Workbook

Sheet 投标总价
A6: 投 标 总 价
A15: 工 程 名 称：保靖县岩门水库除险加固工程
A16: 合 同 编 号：HNBJ-2026-YMSK-001
A17: 投标总价人民币： （大写）（¥）： 元
A18: 投 标 人： （盖单位电子公章）
A19: 法 定 代 表 人： （电子签名）
A20: 编 制 时 间：

Sheet 工程项目总价表
A1: 工程项目总价表
A2: 合同编号：HNBJ-2026-YMSK-001
A3: 工程名称：保靖县岩门水库除险加固工程
A4: 序号 | B4: 工程项目名称 | C4: 金额（元） | D4: 备注
A5: 一 | B5: 第一部分：建筑工程
A6: 1 | B6: ='分类分项工程量清单计价表（建筑工程）'!B6 -> 大坝整治工程
A7: 1.1 | B7: ='分类分项工程量清单计价表（建筑工程）'!B7 -> 坝顶加固
A8: 1.2 | B8: ='分类分项工程量清单计价表（建筑工程）'!B21 -> 上游坝坡
A9: 1.3 | B9: ='分类分项工程量清单计价表（建筑工程）'!B37 -> 下游坝坡
A10: 1.4 | B10: ='分类分项工程量清单计价表（建筑工程）'!B49 -> 坝脚排水棱体、排水沟
A11: 1.5 | B11: ='分类分项工程量清单计价表（建筑工程）'!B59 -> 大坝高压旋喷灌浆
A12: 2 | B12: ='分类分项工程量清单计价表（建筑工程）'!B63 -> 输水建筑物工程
A13: 2.1 | B13: ='分类分项工程量清单计价表（建筑工程）'!B64 -> 原高涵再次封堵
A14: 2.2 | B14: ='分类分项工程量清单计价表（建筑工程）'!B74 -> 重建卧管
A15: 2.3 | B15: ='分类分项工程量清单计价表（建筑工程）'!B90 -> 重建消力井
A16: 2.4 | B16: ='分类分项工程量清单计价表（建筑工程）'!B98 -> 砼包管连接段
A17: 2.5 | B17: ='分类分项工程量清单计价表（建筑工程）'!B107 -> 输水隧洞固结(回填)灌浆
A18: 3 | B18: ='分类分项工程量清单计价表（建筑工程）'!B112 -> 泄水建筑物工程
A19: 3.1 | B19: ='分类分项工程量清单计价表（建筑工程）'!B113 -> 进口段
A20: 3.2 | B20: ='分类分项工程量清单计价表（建筑工程）'!B123 -> 控制段
A21: 3.3 | B21: ='分类分项工程量清单计价表（建筑工程）'!B140 -> 泄槽段
A22: 3.4 | B22: ='分类分项工程量清单计价表（建筑工程）'!B151 -> 消力池
A23: 3.5 | B23: ='分类分项工程量清单计价表（建筑工程）'!B163 -> 泄洪渠
A24: 3.6 | B24: ='分类分项工程量清单计价表（建筑工程）'!B175 -> 上坝公路
A25: 4 | B25: ='分类分项工程量清单计价表（建筑工程）'!B189 -> 管理设施
A27: 二 | B27: 第二部分：机电设备及安装工程
A29: 三 | B29: 第三部分：金属结构设备及安装工程
A30: 1 | B30: ='分类分项工程量清单计价表（金属结构设备及安装工程）'!B7 -> 输水建筑物
A31: 1.1 | B31: ='分类分项工程量清单计价表（金属结构设备及安装工程）'!B8 -> 新建卧管
A32: 1.2 | B32: ='分类分项工程量清单计价表（金属结构设备及安装工程）'!B11 -> 新建消力井
A34: 四 | B34: 措施项目 | C34: 80000 | D34: 总价包干
A36: 五 | B36: 其他项目 | C36: =SUM(C37:C38) -> 303000 | D36: 投标人不得修改
A37: 1 | B37: 安全生产费用 | C37: =其它项目清单计价表!C5 -> 53000 | D37: 投标人不得修改
A38: 2 | B38: 暂列金 | C38: =其它项目清单计价表!C6 -> 250000 | D38: 投标人不得修改
A40: 合计（一、二、三、四、五项之和）
A42: 投 标 人： （名称）
A43: （盖单位电子公章）
A44: 法定代表人： （电子签名）
A45: 日 期： 年 月 日

Sheet 分类分项工程量清单计价表（建筑工程）
A1: 分类分项工程量清单计价表
A2: 合同编号：HNBJ-2026-YMSK-001
A3: 工程名称：保靖县岩门水库除险加固工程
A4: 序号 | B4: 项目名称 | C4: 单位 | D4: 数量 | E4: 单价（元） | F4: 合价（元） | G4: 备注
B5: 第一部分 建筑工程
A6: 一 | B6: 大坝整治工程
A7: (一) | B7: 坝顶加固 | C7: m | D7: 71
A8: 1 | B8: 原砼路肩机械拆除（弃运1km） | C8: m³ | D8: 12.78
A9: 2 | B9: 原碎石路面机械拆除（弃运1km） | C9: m³ | D9: 42.6
A10: 3 | B10: 土方开挖 | C10: m³ | D10: 163.17
A11: 4 | B11: 土方回填 | C11: m³ | D11: 261
A12: 5 | B12: C25砼路肩 | C12: m³ | D12: 12.78
A13: 6 | B13: 路基整平压实 | C13: m² | D13: 426
A14: 7 | B14: 20cm厚C25砼路面 | C14: m² | D14: 445.57
A15: 8 | B15: 10cm厚细砂垫层 | C15: m³ | D15: 44.56
A16: 9 | B16: 左岸C25砼挡墙 | C16: m³ | D16: 87.57
A17: 10 | B17: 沥青杉板伸缩缝 | C17: m² | D17: 19.72
A18: 11 | B18: 平面木模板-基础模板 | C18: m² | D18: 170.4
A19: 12 | B19: 平面木模板-挡土墙模板 | C19: m² | D19: 124.73
A20: 13 | B20: 波形护栏 （暂估） | C20: m | D20: 142 | E20: 170 | G20: 投标人不得修改
A21: (二) | B21: 上游坝坡
A22: 1 | B22: 土方开挖（弃运1km）-踏步、阻滑墩、及挡土墙开挖 | C22: m³ | D22: 645.1
A23: 2 | B23: 土方回填 | C23: m³ | D23: 280.7
A24: 3 | B24: 新建C25砼坝脚阻滑墩 | C24: m³ | D24: 32.8
A25: 4 | B25: C25砼镶边 | C25: m³ | D25: 13.8
A26: 5 | B26: 砼六棱块人工拆除 | C26: m³ | D26: 38.26
A27: 6 | B27: 砼六棱块（弃运1km） | C27: m³ | D27: 38.26
A28: 7 | B28: 10cm厚C25预制六棱块 | C28: m³ | D28: 99.2
A29: 8 | B29: 10cm厚细砂垫层 | C29: m³ | D29: 99.2
A30: 9 | B30: 新建C25砼挡墙 | C30: m³ | D30: 251.6
A31: 10 | B31: C25砼回填 | C31: m³ | D31: 13.18
A32: 11 | B32: DN50PVC排水管 | C32: m | D32: 65.6
A33: 12 | B33: 反滤包 | C33: 个 | D33: 41.33
... A36: 15 | B36: 沥青杉板伸缩缝 | C36: m² | D36: 34.72
A37: (三) | B37: 下游坝坡
A38: 1 | B38: 坝坡坡面砍青 | C38: m² | D38: 2353.37
A39: 2 | B39: 坝坡坡面清表 | C39: m² | D39: 2353.37
A40: 3 | B40: 砌体拆除(机械拆除) | C40: m³ | D40: 43.85
A41: 4 | B41: 坝坡草皮护坡（狗牙根） | C41: m² | D41: 2353.37
A42: 5 | B42: C25砼排水沟 | C42: m³ | D42: 16.87
...

Sheet 分类分项工程量清单计价表（金属结构设备及安装工程）
A1: 分类分项工程量清单计价表
A2: 合同编号：HNBJ-2026-YMSK-001
A3: 工程名称：保靖县岩门水库除险加固工程
A4: 序号 | B4: 项目名称 | C4: 单位 | D4: 数量 | E4: 单价（元） | G4: 合价（元） | I4: 备注
E5: 设备费 | F5: 安装费 | G5: 设备费 | H5: 安装费
B6: 第三部分：金属结构设备及安装工程
A7: 一 | B7: 输水建筑物
A8: (一) | B8: 新建卧管 | I8: 已提前实施不进入招标
B9: PZM300搭盖式铸铁闸门 | C9: 个
B10: φ110镀锌钢管通气孔 | C10: m
A11: (二) | B11: 新建消力井 | I11: 已提前实施不进入招标
B12: 检修孔搭盖式铸铁闸门Φ600 | C12: 钢制爬梯
B13: 钢制爬梯 | C13: 副
A16: 合 计 | D16: 元 汇入工程项目总价表
A18: 投 标 人： （名称）
A19: （盖单位电子公章）
A20: 法定代表人： （电子签名）
A21: 日 期： 年 月 日

Sheet 措施项目清单计价表
A1: 措施项目清单计价表
A2: 合同编号：HNBJ-2026-YMSK-001
A3: 工程名称：保靖县岩门水库除险加固工程
A4: 序号 | B4: 项目名称 | C4: 金额(元)
A5: 1 | B5: 导流工程
A6: 2 | B6: 施工房屋建筑工程
A7: 3 | B7: 施工道路（3米宽20cm厚泥结石路）
A8: 4 | B8: 检测、试验费
A9: 5 | B9: 其他临时工程
A27: 合 计 | C27: 80000.00 元 汇入工程项目总价表
A30: 投 标 人： （名称）
A31: （盖单位电子公章）
A32: 法定代表人： （电子签名）
A33: 日 期： 年 月 日

Sheet 其它项目清单计价表
A1: 其它项目清单计价表
A2: 合同编号：HNBJ-2026-YMSK-001
A3: 工程名称：保靖县岩门水库除险加固工程
A4: 序号 | B4: 项目名称 | C4: 金额（元） | D4: 备注
A5: 1 | B5: 安全生产费用 | C5: 53000 | D5: 投标人不得修改
A6: 2 | B6: 暂列金 | C6: 250000 | D6: 投标人不得修改
A22: 合 计 | C22: 303000.00 元 汇入工程项目总价表
A24: 注：安全生产费用严格按《关于印发<企业安全生产费用提取和使用管理办法>的通知》（财资[2022]136号）执行。
A25: 安全生产费用以招标人最高投标限价（不含安全生产费用及建筑工程一切险及建筑工程第三者责任险等保险费用）的2.5%标准计取，并在招标文件《其它项目清单计价表》中以固定值单列，投标人投标文件中均以该固定值报价，不得作为竞争性报价。安全生产费用应用于施工安全防护用具及设施的采购和更新、安全施工措施的落实、安全生产条件的改善、安全生产文明宣传培训等，不得挪作他用。招标人按实际量支付。
A27: 投 标 人： （名称）
A28: （盖单位电子公章）
A29: 法定代表人： （电子签名）
A30: 日 期： 年 月 日
